BEGIN:VCALENDAR
VERSION:2.0
PRODID:gruene-laatzen.de
METHOD:PUBLISH
BEGIN:VTIMEZONE
TZID:Europe/Berlin
X-LIC-LOCATION:Europe/Berlin
BEGIN:DAYLIGHT
TZOFFSETFROM:+0100
TZOFFSETTO:+0200
TZNAME:CEST
DTSTART:19700329T020000
RRULE:FREQ=YEARLY;INTERVAL=1;BYDAY=-1SU;BYMONTH=3
END:DAYLIGHT
BEGIN:STANDARD
TZOFFSETFROM:+0200
TZOFFSETTO:+0100
TZNAME:CET
DTSTART:19701025T030000
RRULE:FREQ=YEARLY;INTERVAL=1;BYDAY=-1SU;BYMONTH=10
END:STANDARD
END:VTIMEZONE
BEGIN:VEVENT
UID:93fbfc7be5e36a7c797b8c1087e7e21e@gruene-laatzen.de
URL;VALUE=URI:https://gruene-laatzen.de/termine/auf-ein-bier-mit-dirk-cla
 as-ulrich/
LOCATION:Wiesendachhaus, Zum Fugenwinkel 1, Laatzen
SUMMARY:Auf ein Bier mit Dirk-Claas Ulrich !
DESCRIPTION;ALTREP="data:text/html,%0A%3Cp%3EVeranstaltung%20zur%20Europa
 wahl%3C%2Fp%3E%0A%0A%0A%0A%3Cp%3EAm%20Freitag%2C%20den%20%3Cstrong%3E17.%
 20Mai%3C%2Fstrong%3E%20ist%20es%20soweit%20%21%20Wir%20bekommen%20Besuch.
 %20Unser%20Kanidat%2C%20%3Cstrong%3EDirk-Claas%20Ulrich%3C%2Fstrong%3E%20
 %2C%20f%C3%BCr%20Europa%2C%20ist%20im%20Anschluss%20einer%20Podiumsdiskus
 sion%2C%20um%2015%20Uhr%20im%20Tal%20%28Auf%20d.%20Dehne%202a%29%2C%20org
 anisiert%20vom%20Seniorenbund%20Laatzen%20%2C%20%3Cstrong%3Egegen%2017%20
 Uhr%20f%C3%BCr%20einen%20interessanten%20Austausch%20im%20Wiesendachhaus%
 20in%20Laatzen%20%28%20Zum%20Fugenwinkel%201%29%20anzutreffen.%20%3C%2Fst
 rong%3E%3C%2Fp%3E%0A%0A%0A%0A%3Cp%3EWir%20freuen%20uns%20bereits%20sehr%2
 0und%20erwarten%20auch%20viele%20von%20euch%20dort%20anzutreffen%20%21%20
 %3C%2Fp%3E%0A%0A%0A%0A%3Cp%3E%3C%2Fp%3E%0A":Veranstaltung zur Europawahl\
 n\nAm Freitag\, den 17. Mai ist es soweit ! Wir bekommen Besuch. Unser Ka
 nidat\, Dirk-Claas Ulrich \, für Europa\, ist im Anschluss einer Podiums
 diskussion\, um 15 Uhr im Tal (Auf d. Dehne 2a)\, organisiert vom Seniore
 nbund Laatzen \, gegen 17 Uhr für einen interessanten Austausch im Wiese
 ndachhaus in Laatzen ( Zum Fugenwinkel 1) anzutreffen.\n\nWir freuen uns 
 bereits sehr und erwarten auch viele von euch dort anzutreffen !
CLASS:PUBLIC
DTSTART;TZID=Europe/Berlin:20240517T170000
DTEND;TZID=Europe/Berlin:20240517T200000
DTSTAMP:20260421T164734
END:VEVENT
END:VCALENDAR